BEGIN:VCALENDAR
VERSION:2.0
METHOD:PUBLISH
X-WR-CALNAME:VFEK |  augusztus 13 2011- augusztus 13 2011
PRODID:-//strange bird labs//Drupal iCal API//EN
BEGIN:VEVENT
DTSTAMP;VALUE=DATE-TIME:20260420T195110Z
DTSTART;VALUE=DATE-TIME:20110801T230000Z
DTEND;VALUE=DATE-TIME:20110819T225900Z
UID:http://portal.vfmk.hu/node/1441
URL;VALUE=URI:http://portal.vfmk.hu/node/1441
SUMMARY:Nyári zárva tartás
DESCRIPTION:<p><strong><span style=\\"font-size\: medium\; \\"><span style=\\"font-family\: Verdana\; \\">Tisztelt Olvas&oacute\;ink\, L&aacute\;togat&oacute\;ink!</span></span></strong></p>
 <p class=\\"rtejustify\\"><span style=\\"font-size\: small\; \\"><span style=\\"font-family\: Verdana\; \\">A J&aacute\;sz-Nagykun-Szolnok Megyei Verseghy Ferenc K&ouml\;nyvt&aacute\;r &eacute\;s&nbsp\;Művelőd&eacute\;si Int&eacute\;zet 2011. j&uacute\;lius 9. &eacute\;s augusztus 27. k&ouml\;z&ouml\;tt&nbsp\;<strong>szombaton</strong>k&eacute\;nt <strong>Z&Aacute\;RVA</strong> tart.</span></span></p>
 <p class=\\"rtecenter\\"><span style=\\"font-size\: small\; \\"><span style=\\"font-family\: Verdana\; \\">Ny&aacute\;ri z&aacute\;rvatart&aacute\;sunkra id&eacute\;n <strong>augusztus 2. &eacute\;s augusztus 19.</strong>&nbsp\;k&ouml\;z&ouml\;tt ker&uuml\;l sor.</span></span></p>
 <p class=\\"rtecenter\\"><span style=\\"font-size\: small\;\\"><span style=\\"font-family\: Verdana\;\\">K&eacute\;rj&uuml\;k\, idej&eacute\;ben gondoskodjon augusztusi olvasnival&oacute\;j&aacute\;r&oacute\;l!</span></span></p>
END:VEVENT
END:VCALENDAR
